BEGIN:VCALENDAR
VERSION:2.0
PRODID:-//hacksw/handcal//NONSGML v1.0//EN
BEGIN:VEVENT
SUMMARY:Regate interne club toutes categories
UID:e87bd948-c237-4538-8861-678c17717759
DTSTART:20260425T070000Z
DTEND:20260425T150000Z
LOCATION:Localisation   
CATEGORIES:Sportif
STATUS:
URL;VALUE=URI:https://www.avironlemans.com/evenements/2026/04/25/regate-interne-club-toutes-categories-2441137
END:VEVENT
END:VCALENDAR
